BEGIN:VCALENDAR
VERSION:2.0
PRODID:-//PDX Hypnosis - ECPv6.15.20//NONSGML v1.0//EN
CALSCALE:GREGORIAN
METHOD:PUBLISH
X-ORIGINAL-URL:https://pdxhypnosis.com
X-WR-CALDESC:Events for PDX Hypnosis
REFRESH-INTERVAL;VALUE=DURATION:PT1H
X-Robots-Tag:noindex
X-PUBLISHED-TTL:PT1H
BEGIN:VTIMEZONE
TZID:America/Los_Angeles
BEGIN:DAYLIGHT
TZOFFSETFROM:-0800
TZOFFSETTO:-0700
TZNAME:PDT
DTSTART:20200308T100000
END:DAYLIGHT
BEGIN:STANDARD
TZOFFSETFROM:-0700
TZOFFSETTO:-0800
TZNAME:PST
DTSTART:20201101T090000
END:STANDARD
BEGIN:DAYLIGHT
TZOFFSETFROM:-0800
TZOFFSETTO:-0700
TZNAME:PDT
DTSTART:20210314T100000
END:DAYLIGHT
BEGIN:STANDARD
TZOFFSETFROM:-0700
TZOFFSETTO:-0800
TZNAME:PST
DTSTART:20211107T090000
END:STANDARD
BEGIN:DAYLIGHT
TZOFFSETFROM:-0800
TZOFFSETTO:-0700
TZNAME:PDT
DTSTART:20220313T100000
END:DAYLIGHT
BEGIN:STANDARD
TZOFFSETFROM:-0700
TZOFFSETTO:-0800
TZNAME:PST
DTSTART:20221106T090000
END:STANDARD
END:VTIMEZONE
BEGIN:VEVENT
DTSTART;TZID=America/Los_Angeles:20211226T100000
DTEND;TZID=America/Los_Angeles:20211226T113000
DTSTAMP:20260423T221614
CREATED:20211218T184556Z
LAST-MODIFIED:20211218T184556Z
UID:301-1640512800-1640518200@pdxhypnosis.com
SUMMARY:Portland Meditation Group
DESCRIPTION:Guided meditations are offered every other Sunday from 10:00 AM to 11:30 AM. Spaces are limited so reserve so reserve your place by signing up today or feel free to contact Scott Duvall at 503-238-4428. Please bring your Cafu (meditation pillow)\, dress in comfortable clothing\, and a blanket if you wish\, a donation of $15 to $20 is requested.
URL:https://pdxhypnosis.com/event/portland-meditation-group/
LOCATION:Scott Duvall\, 2025 SE 50th Ave\, Portlnad\, OR\, 97215\, United States
END:VEVENT
END:VCALENDAR